<?xml version="1.0" encoding="UTF-8"?>
<Capabilities xmlns="http://www.opengis.net/wmts/1.0"
xmlns:ows="http://www.opengis.net/ows/1.1"
xmlns:xlink="http://www.w3.org/1999/xlink"
xmlns:xsi="http://www.w3.org/2001/XMLSchema-instance"
xmlns:gml="http://www.opengis.net/gml"
xsi:schemaLocation="http://www.opengis.net/wmts/1.0 http://schemas.opengis.net/wmts/1.0/wmtsGetCapabilities_response.xsd"
version="1.0.0">
<!-- Service Identification --> <ows:ServiceIdentification>
<ows:Title>Hosted_Topographic_Map_Fict</ows:Title>
<ows:ServiceType>OGC WMTS</ows:ServiceType>
<ows:ServiceTypeVersion>1.0.0</ows:ServiceTypeVersion>
</ows:ServiceIdentification> <!-- Operations Metadata --> <ows:OperationsMetadata>
<ows:Operation name="GetCapabilities">
<ows:DCP>
<ows:HTTP>
<ows:Get xlink:href="https://gh.space.gov.rw/server/rest/services/Hosted/Topographic_Map_Fict/MapServer/WMTS/1.0.0/WMTSCapabilities.xml">
<ows:Constraint name="GetEncoding">
<ows:AllowedValues>
<ows:Value>RESTful</ows:Value>
</ows:AllowedValues>
</ows:Constraint>
</ows:Get>
<!-- add KVP binding in 10.1 -->
<ows:Get xlink:href="https://gh.space.gov.rw/server/rest/services/Hosted/Topographic_Map_Fict/MapServer/WMTS?">
<ows:Constraint name="GetEncoding">
<ows:AllowedValues>
<ows:Value>KVP</ows:Value>
</ows:AllowedValues>
</ows:Constraint>
</ows:Get>
</ows:HTTP>
</ows:DCP>
</ows:Operation>
<ows:Operation name="GetTile">
<ows:DCP>
<ows:HTTP>
<ows:Get xlink:href="https://gh.space.gov.rw/server/rest/services/Hosted/Topographic_Map_Fict/MapServer/WMTS/tile/1.0.0/">
<ows:Constraint name="GetEncoding">
<ows:AllowedValues>
<ows:Value>RESTful</ows:Value>
</ows:AllowedValues>
</ows:Constraint>
</ows:Get>
<ows:Get xlink:href="https://gh.space.gov.rw/server/rest/services/Hosted/Topographic_Map_Fict/MapServer/WMTS?">
<ows:Constraint name="GetEncoding">
<ows:AllowedValues>
<ows:Value>KVP</ows:Value>
</ows:AllowedValues>
</ows:Constraint>
</ows:Get>
</ows:HTTP>
</ows:DCP>
</ows:Operation>
</ows:OperationsMetadata> <Contents>
<!--Layer--> <Layer>
<ows:Title>Hosted_Topographic_Map_Fict</ows:Title> <ows:Identifier>Hosted_Topographic_Map_Fict</ows:Identifier>
<ows:BoundingBox crs="urn:ogc:def:crs:EPSG::4326">
<ows:LowerCorner>-5.215877191079471 -2.994900000208638</ows:LowerCorner>
<ows:UpperCorner>30.608611100246346 35.15397131008492</ows:UpperCorner>
</ows:BoundingBox> <ows:WGS84BoundingBox crs="urn:ogc:def:crs:OGC:2:84">
<ows:LowerCorner>-2.994900000208638 -5.215877191079471</ows:LowerCorner>
<ows:UpperCorner>35.15397131008492 30.608611100246346</ows:UpperCorner>
</ows:WGS84BoundingBox>
<Style isDefault="true">
<ows:Title>Default Style</ows:Title>
<ows:Identifier>default</ows:Identifier>
</Style>
<Format>image/png</Format>
<TileMatrixSetLink>
<TileMatrixSet>default</TileMatrixSet>
</TileMatrixSetLink>
<ResourceURL format="image/png" resourceType="tile" template="https://gh.space.gov.rw/server/rest/services/Hosted/Topographic_Map_Fict/MapServer/WMTS/tile/1.0.0/Hosted_Topographic_Map_Fict/{Style}/{TileMatrixSet}/{TileMatrix}/{TileRow}/{TileCol}.png" />
</Layer> <!--TileMatrixSet-->
<TileMatrixSet>
<ows:Title>TileMatrix using 0.28mm</ows:Title>
<ows:Abstract>The tile matrix set that has scale values calculated based on the dpi defined by OGC specification (dpi assumes 0.28mm as the physical distance of a pixel).</ows:Abstract> <ows:Identifier>default</ows:Identifier>
<ows:SupportedCRS>urn:ogc:def:crs:EPSG::4326</ows:SupportedCRS>
<TileMatrix>
<ows:Identifier>0</ows:Identifier>
<ScaleDenominator>2.795411320143237E8</ScaleDenominator>
<TopLeftCorner>90.0 -180.0</TopLeftCorner> <TileWidth>256</TileWidth> <TileHeight>256</TileHeight>
<MatrixWidth>2</MatrixWidth> <MatrixHeight>1</MatrixHeight>
</TileMatrix>
<TileMatrix>
<ows:Identifier>1</ows:Identifier>
<ScaleDenominator>1.3977056600716186E8</ScaleDenominator>
<TopLeftCorner>90.0 -180.0</TopLeftCorner> <TileWidth>256</TileWidth> <TileHeight>256</TileHeight>
<MatrixWidth>3</MatrixWidth> <MatrixHeight>2</MatrixHeight>
</TileMatrix>
<TileMatrix>
<ows:Identifier>2</ows:Identifier>
<ScaleDenominator>6.988528300358093E7</ScaleDenominator>
<TopLeftCorner>90.0 -180.0</TopLeftCorner> <TileWidth>256</TileWidth> <TileHeight>256</TileHeight>
<MatrixWidth>5</MatrixWidth> <MatrixHeight>3</MatrixHeight>
</TileMatrix>
<TileMatrix>
<ows:Identifier>3</ows:Identifier>
<ScaleDenominator>3.4942641501790464E7</ScaleDenominator>
<TopLeftCorner>90.0 -180.0</TopLeftCorner> <TileWidth>256</TileWidth> <TileHeight>256</TileHeight>
<MatrixWidth>10</MatrixWidth> <MatrixHeight>5</MatrixHeight>
</TileMatrix>
<TileMatrix>
<ows:Identifier>4</ows:Identifier>
<ScaleDenominator>1.7471320750895232E7</ScaleDenominator>
<TopLeftCorner>90.0 -180.0</TopLeftCorner> <TileWidth>256</TileWidth> <TileHeight>256</TileHeight>
<MatrixWidth>20</MatrixWidth> <MatrixHeight>9</MatrixHeight>
</TileMatrix>
<TileMatrix>
<ows:Identifier>5</ows:Identifier>
<ScaleDenominator>8735660.375447616</ScaleDenominator>
<TopLeftCorner>90.0 -180.0</TopLeftCorner> <TileWidth>256</TileWidth> <TileHeight>256</TileHeight>
<MatrixWidth>39</MatrixWidth> <MatrixHeight>17</MatrixHeight>
</TileMatrix>
<TileMatrix>
<ows:Identifier>6</ows:Identifier>
<ScaleDenominator>4367830.187723808</ScaleDenominator>
<TopLeftCorner>90.0 -180.0</TopLeftCorner> <TileWidth>256</TileWidth> <TileHeight>256</TileHeight>
<MatrixWidth>77</MatrixWidth> <MatrixHeight>34</MatrixHeight>
</TileMatrix>
<TileMatrix>
<ows:Identifier>7</ows:Identifier>
<ScaleDenominator>2183915.093861904</ScaleDenominator>
<TopLeftCorner>90.0 -180.0</TopLeftCorner> <TileWidth>256</TileWidth> <TileHeight>256</TileHeight>
<MatrixWidth>153</MatrixWidth> <MatrixHeight>68</MatrixHeight>
</TileMatrix>
<TileMatrix>
<ows:Identifier>8</ows:Identifier>
<ScaleDenominator>1091957.546930952</ScaleDenominator>
<TopLeftCorner>90.0 -180.0</TopLeftCorner> <TileWidth>256</TileWidth> <TileHeight>256</TileHeight>
<MatrixWidth>306</MatrixWidth> <MatrixHeight>136</MatrixHeight>
</TileMatrix>
<TileMatrix>
<ows:Identifier>9</ows:Identifier>
<ScaleDenominator>545978.773465476</ScaleDenominator>
<TopLeftCorner>90.0 -180.0</TopLeftCorner> <TileWidth>256</TileWidth> <TileHeight>256</TileHeight>
<MatrixWidth>612</MatrixWidth> <MatrixHeight>271</MatrixHeight>
</TileMatrix>
<TileMatrix>
<ows:Identifier>10</ows:Identifier>
<ScaleDenominator>272989.386732738</ScaleDenominator>
<TopLeftCorner>90.0 -180.0</TopLeftCorner> <TileWidth>256</TileWidth> <TileHeight>256</TileHeight>
<MatrixWidth>1224</MatrixWidth> <MatrixHeight>542</MatrixHeight>
</TileMatrix>
<TileMatrix>
<ows:Identifier>11</ows:Identifier>
<ScaleDenominator>136494.693366369</ScaleDenominator>
<TopLeftCorner>90.0 -180.0</TopLeftCorner> <TileWidth>256</TileWidth> <TileHeight>256</TileHeight>
<MatrixWidth>2448</MatrixWidth> <MatrixHeight>1084</MatrixHeight>
</TileMatrix>
<TileMatrix>
<ows:Identifier>12</ows:Identifier>
<ScaleDenominator>68247.3466831845</ScaleDenominator>
<TopLeftCorner>90.0 -180.0</TopLeftCorner> <TileWidth>256</TileWidth> <TileHeight>256</TileHeight>
<MatrixWidth>4896</MatrixWidth> <MatrixHeight>2167</MatrixHeight>
</TileMatrix>
<TileMatrix>
<ows:Identifier>13</ows:Identifier>
<ScaleDenominator>34123.67334159225</ScaleDenominator>
<TopLeftCorner>90.0 -180.0</TopLeftCorner> <TileWidth>256</TileWidth> <TileHeight>256</TileHeight>
<MatrixWidth>9792</MatrixWidth> <MatrixHeight>4334</MatrixHeight>
</TileMatrix>
<TileMatrix>
<ows:Identifier>14</ows:Identifier>
<ScaleDenominator>17061.836670796125</ScaleDenominator>
<TopLeftCorner>90.0 -180.0</TopLeftCorner> <TileWidth>256</TileWidth> <TileHeight>256</TileHeight>
<MatrixWidth>19584</MatrixWidth> <MatrixHeight>8667</MatrixHeight>
</TileMatrix>
<TileMatrix>
<ows:Identifier>15</ows:Identifier>
<ScaleDenominator>8530.918335398062</ScaleDenominator>
<TopLeftCorner>90.0 -180.0</TopLeftCorner> <TileWidth>256</TileWidth> <TileHeight>256</TileHeight>
<MatrixWidth>39168</MatrixWidth> <MatrixHeight>17334</MatrixHeight>
</TileMatrix>
<TileMatrix>
<ows:Identifier>16</ows:Identifier>
<ScaleDenominator>4265.459167699031</ScaleDenominator>
<TopLeftCorner>90.0 -180.0</TopLeftCorner> <TileWidth>256</TileWidth> <TileHeight>256</TileHeight>
<MatrixWidth>78336</MatrixWidth> <MatrixHeight>34668</MatrixHeight>
</TileMatrix>
<TileMatrix>
<ows:Identifier>17</ows:Identifier>
<ScaleDenominator>2132.7295838495156</ScaleDenominator>
<TopLeftCorner>90.0 -180.0</TopLeftCorner> <TileWidth>256</TileWidth> <TileHeight>256</TileHeight>
<MatrixWidth>156671</MatrixWidth> <MatrixHeight>69335</MatrixHeight>
</TileMatrix>
<TileMatrix>
<ows:Identifier>18</ows:Identifier>
<ScaleDenominator>1066.3647919247578</ScaleDenominator>
<TopLeftCorner>90.0 -180.0</TopLeftCorner> <TileWidth>256</TileWidth> <TileHeight>256</TileHeight>
<MatrixWidth>313341</MatrixWidth> <MatrixHeight>138669</MatrixHeight>
</TileMatrix>
<TileMatrix>
<ows:Identifier>19</ows:Identifier>
<ScaleDenominator>533.1823959623789</ScaleDenominator>
<TopLeftCorner>90.0 -180.0</TopLeftCorner> <TileWidth>256</TileWidth> <TileHeight>256</TileHeight>
<MatrixWidth>626682</MatrixWidth> <MatrixHeight>277337</MatrixHeight>
</TileMatrix>
<TileMatrix>
<ows:Identifier>20</ows:Identifier>
<ScaleDenominator>266.59119798118945</ScaleDenominator>
<TopLeftCorner>90.0 -180.0</TopLeftCorner> <TileWidth>256</TileWidth> <TileHeight>256</TileHeight>
<MatrixWidth>1253363</MatrixWidth> <MatrixHeight>554673</MatrixHeight>
</TileMatrix>
<TileMatrix>
<ows:Identifier>21</ows:Identifier>
<ScaleDenominator>133.29559899059473</ScaleDenominator>
<TopLeftCorner>90.0 -180.0</TopLeftCorner> <TileWidth>256</TileWidth> <TileHeight>256</TileHeight>
<MatrixWidth>2506726</MatrixWidth> <MatrixHeight>1109346</MatrixHeight>
</TileMatrix>
<TileMatrix>
<ows:Identifier>22</ows:Identifier>
<ScaleDenominator>66.64779949529736</ScaleDenominator>
<TopLeftCorner>90.0 -180.0</TopLeftCorner> <TileWidth>256</TileWidth> <TileHeight>256</TileHeight>
<MatrixWidth>5013451</MatrixWidth> <MatrixHeight>2218691</MatrixHeight>
</TileMatrix>
</TileMatrixSet>
</Contents>
<ServiceMetadataURL xlink:href="https://gh.space.gov.rw/server/rest/services/Hosted/Topographic_Map_Fict/MapServer/WMTS/1.0.0/WMTSCapabilities.xml" /> </Capabilities>
